BEGIN:VCALENDAR
VERSION:2.0
PRODID:-//RE-ELECT PAUL LUWE to VIRGIN TOWN COUNCIL - ECPv6.15.20//NONSGML v1.0//EN
CALSCALE:GREGORIAN
METHOD:PUBLISH
X-ORIGINAL-URL:https://paul4virgintowncouncil.com
X-WR-CALDESC:Events for RE-ELECT PAUL LUWE to VIRGIN TOWN COUNCIL
REFRESH-INTERVAL;VALUE=DURATION:PT1H
X-Robots-Tag:noindex
X-PUBLISHED-TTL:PT1H
BEGIN:VTIMEZONE
TZID:America/Denver
BEGIN:DAYLIGHT
TZOFFSETFROM:-0700
TZOFFSETTO:-0600
TZNAME:MDT
DTSTART:20210314T090000
END:DAYLIGHT
BEGIN:STANDARD
TZOFFSETFROM:-0600
TZOFFSETTO:-0700
TZNAME:MST
DTSTART:20211107T080000
END:STANDARD
BEGIN:DAYLIGHT
TZOFFSETFROM:-0700
TZOFFSETTO:-0600
TZNAME:MDT
DTSTART:20220313T090000
END:DAYLIGHT
BEGIN:STANDARD
TZOFFSETFROM:-0600
TZOFFSETTO:-0700
TZNAME:MST
DTSTART:20221106T080000
END:STANDARD
BEGIN:DAYLIGHT
TZOFFSETFROM:-0700
TZOFFSETTO:-0600
TZNAME:MDT
DTSTART:20230312T090000
END:DAYLIGHT
BEGIN:STANDARD
TZOFFSETFROM:-0600
TZOFFSETTO:-0700
TZNAME:MST
DTSTART:20231105T080000
END:STANDARD
BEGIN:DAYLIGHT
TZOFFSETFROM:-0700
TZOFFSETTO:-0600
TZNAME:MDT
DTSTART:20240310T090000
END:DAYLIGHT
BEGIN:STANDARD
TZOFFSETFROM:-0600
TZOFFSETTO:-0700
TZNAME:MST
DTSTART:20241103T080000
END:STANDARD
END:VTIMEZONE
BEGIN:VEVENT
DTSTART;TZID=America/Denver:20230614T180000
DTEND;TZID=America/Denver:20230614T200000
DTSTAMP:20260423T194450
CREATED:20230613T164909Z
LAST-MODIFIED:20230613T164914Z
UID:1755-1686765600-1686772800@paul4virgintowncouncil.com
SUMMARY:PLANNING & ZONING COMMISSION MEETING
DESCRIPTION:
URL:https://paul4virgintowncouncil.com/event/planning-zoning-commission-meeting-14/
END:VEVENT
BEGIN:VEVENT
DTSTART;TZID=America/Denver:20230608T183000
DTEND;TZID=America/Denver:20230608T183000
DTSTAMP:20260423T194450
CREATED:20221231T183110Z
LAST-MODIFIED:20221231T183116Z
UID:1484-1686249000-1686249000@paul4virgintowncouncil.com
SUMMARY:TOWN COUNCIL MEETING - Work Session
DESCRIPTION:
URL:https://paul4virgintowncouncil.com/event/town-council-meeting-work-session-6/
END:VEVENT
BEGIN:VEVENT
DTSTART;TZID=America/Denver:20230516T183000
DTEND;TZID=America/Denver:20230516T183000
DTSTAMP:20260423T194450
CREATED:20221231T184229Z
LAST-MODIFIED:20221231T184233Z
UID:1505-1684261800-1684261800@paul4virgintowncouncil.com
SUMMARY:TOWN COUNCIL MEETING
DESCRIPTION:
URL:https://paul4virgintowncouncil.com/event/town-council-meeting-17/
END:VEVENT
BEGIN:VEVENT
DTSTART;TZID=America/Denver:20230515T140000
DTEND;TZID=America/Denver:20230515T140000
DTSTAMP:20260423T194450
CREATED:20230121T021617Z
LAST-MODIFIED:20230121T021623Z
UID:1574-1684159200-1684159200@paul4virgintowncouncil.com
SUMMARY:HURRICANE VALLEY FIRE SPECIAL SERVICE DISTRICT (HVFSSD) BOARD MEETING
DESCRIPTION:
URL:https://paul4virgintowncouncil.com/event/hurricane-valley-fire-special-service-district-hvfssd-board-meeting-4/
END:VEVENT
BEGIN:VEVENT
DTSTART;TZID=America/Denver:20230511T183000
DTEND;TZID=America/Denver:20230511T183000
DTSTAMP:20260423T194450
CREATED:20221231T183019Z
LAST-MODIFIED:20221231T183024Z
UID:1482-1683829800-1683829800@paul4virgintowncouncil.com
SUMMARY:TOWN COUNCIL MEETING - Work Session
DESCRIPTION:
URL:https://paul4virgintowncouncil.com/event/town-council-meeting-work-session-5/
END:VEVENT
BEGIN:VEVENT
DTSTART;TZID=America/Denver:20230510T180000
DTEND;TZID=America/Denver:20230510T180000
DTSTAMP:20260423T194450
CREATED:20230508T203349Z
LAST-MODIFIED:20230508T203355Z
UID:1725-1683741600-1683741600@paul4virgintowncouncil.com
SUMMARY:Planning & Zoning Commission Meeting
DESCRIPTION:
URL:https://paul4virgintowncouncil.com/event/planning-zoning-commission-meeting-13/
END:VEVENT
BEGIN:VEVENT
DTSTART;TZID=America/Denver:20230508T170000
DTEND;TZID=America/Denver:20230508T190000
DTSTAMP:20260423T194450
CREATED:20230407T011656Z
LAST-MODIFIED:20230407T011703Z
UID:1695-1683565200-1683572400@paul4virgintowncouncil.com
SUMMARY:Virgin CIP committee meeting
DESCRIPTION:
URL:https://paul4virgintowncouncil.com/event/virgin-cip-committee-meeting/
END:VEVENT
BEGIN:VEVENT
DTSTART;TZID=America/Denver:20230425T180000
DTEND;TZID=America/Denver:20230425T200000
DTSTAMP:20260423T194450
CREATED:20221231T184146Z
LAST-MODIFIED:20230423T000903Z
UID:1503-1682445600-1682452800@paul4virgintowncouncil.com
SUMMARY:TOWN COUNCIL MEETING
DESCRIPTION:
URL:https://paul4virgintowncouncil.com/event/town-council-meeting-16/
END:VEVENT
BEGIN:VEVENT
DTSTART;TZID=America/Denver:20230417T140000
DTEND;TZID=America/Denver:20230417T140000
DTSTAMP:20260423T194450
CREATED:20230121T021537Z
LAST-MODIFIED:20230121T021547Z
UID:1572-1681740000-1681740000@paul4virgintowncouncil.com
SUMMARY:HURRICANE VALLEY FIRE SPECIAL SERVICE DISTRICT (HVFSSD) BOARD MEETING
DESCRIPTION:
URL:https://paul4virgintowncouncil.com/event/hurricane-valley-fire-special-service-district-hvfssd-board-meeting-3/
END:VEVENT
BEGIN:VEVENT
DTSTART;TZID=America/Denver:20230413T183000
DTEND;TZID=America/Denver:20230413T183000
DTSTAMP:20260423T194450
CREATED:20221231T182933Z
LAST-MODIFIED:20221231T182937Z
UID:1480-1681410600-1681410600@paul4virgintowncouncil.com
SUMMARY:TOWN COUNCIL MEETING - Work Session
DESCRIPTION:
URL:https://paul4virgintowncouncil.com/event/town-council-meeting-work-session-4/
END:VEVENT
BEGIN:VEVENT
DTSTART;TZID=America/Denver:20230323T180000
DTEND;TZID=America/Denver:20230323T200000
DTSTAMP:20260423T194450
CREATED:20230322T215344Z
LAST-MODIFIED:20230322T215350Z
UID:1681-1679594400-1679601600@paul4virgintowncouncil.com
SUMMARY:Neighborhood Meeting re Pocketville Road
DESCRIPTION:@ Old Church
URL:https://paul4virgintowncouncil.com/event/neighborhood-meeting-re-pocketville-road/
END:VEVENT
BEGIN:VEVENT
DTSTART;TZID=America/Denver:20230321T183000
DTEND;TZID=America/Denver:20230321T183000
DTSTAMP:20260423T194450
CREATED:20221231T184100Z
LAST-MODIFIED:20221231T184104Z
UID:1501-1679423400-1679423400@paul4virgintowncouncil.com
SUMMARY:TOWN COUNCIL MEETING
DESCRIPTION:
URL:https://paul4virgintowncouncil.com/event/town-council-meeting-15/
END:VEVENT
BEGIN:VEVENT
DTSTART;TZID=America/Denver:20230320T140000
DTEND;TZID=America/Denver:20230320T140000
DTSTAMP:20260423T194450
CREATED:20230121T021431Z
LAST-MODIFIED:20230121T021436Z
UID:1570-1679320800-1679320800@paul4virgintowncouncil.com
SUMMARY:HURRICANE VALLEY FIRE SPECIAL SERVICE DISTRICT (HVFSSD) BOARD MEETING
DESCRIPTION:
URL:https://paul4virgintowncouncil.com/event/hurricane-valley-fire-special-service-district-hvfssd-board-meeting-2/
END:VEVENT
BEGIN:VEVENT
DTSTART;TZID=America/Denver:20230309T183000
DTEND;TZID=America/Denver:20230309T183000
DTSTAMP:20260423T194450
CREATED:20221231T182843Z
LAST-MODIFIED:20221231T183718Z
UID:1478-1678386600-1678386600@paul4virgintowncouncil.com
SUMMARY:TOWN COUNCIL MEETING - Work Session
DESCRIPTION:
URL:https://paul4virgintowncouncil.com/event/town-council-meeting-work-session-3/
END:VEVENT
BEGIN:VEVENT
DTSTART;TZID=America/Denver:20230227T140000
DTEND;TZID=America/Denver:20230227T140000
DTSTAMP:20260423T194450
CREATED:20230121T021344Z
LAST-MODIFIED:20230121T021354Z
UID:1568-1677506400-1677506400@paul4virgintowncouncil.com
SUMMARY:HURRICANE VALLEY FIRE SPECIAL SERVICE DISTRICT (HVFSSD) BOARD MEETING
DESCRIPTION:
URL:https://paul4virgintowncouncil.com/event/hurricane-valley-fire-special-service-district-hvfssd-board-meeting/
END:VEVENT
BEGIN:VEVENT
DTSTART;TZID=America/Denver:20230221T183000
DTEND;TZID=America/Denver:20230221T183000
DTSTAMP:20260423T194450
CREATED:20221231T184023Z
LAST-MODIFIED:20221231T184028Z
UID:1499-1677004200-1677004200@paul4virgintowncouncil.com
SUMMARY:TOWN COUNCIL MEETING
DESCRIPTION:
URL:https://paul4virgintowncouncil.com/event/town-council-meeting-14/
END:VEVENT
BEGIN:VEVENT
DTSTART;TZID=America/Denver:20230216T170000
DTEND;TZID=America/Denver:20230216T170000
DTSTAMP:20260423T194450
CREATED:20230216T232337Z
LAST-MODIFIED:20230216T232515Z
UID:1626-1676566800-1676566800@paul4virgintowncouncil.com
SUMMARY:Town Council Meting - Appeal Deliberations
DESCRIPTION:
URL:https://paul4virgintowncouncil.com/event/town-council-meting-appeal-diliberations/
END:VEVENT
BEGIN:VEVENT
DTSTART;TZID=America/Denver:20230210T130000
DTEND;TZID=America/Denver:20230210T130000
DTSTAMP:20260423T194450
CREATED:20230202T232824Z
LAST-MODIFIED:20230202T232839Z
UID:1609-1676034000-1676034000@paul4virgintowncouncil.com
SUMMARY:TOWN COUNCIL MEETING - Appeal of CUP - Wheeping Buffalo
DESCRIPTION:
URL:https://paul4virgintowncouncil.com/event/town-council-meeting-appeal-of-cup-wheeping-buffalo/
END:VEVENT
BEGIN:VEVENT
DTSTART;TZID=America/Denver:20230209T183000
DTEND;TZID=America/Denver:20230209T183000
DTSTAMP:20260423T194450
CREATED:20221231T182801Z
LAST-MODIFIED:20221231T182808Z
UID:1476-1675967400-1675967400@paul4virgintowncouncil.com
SUMMARY:TOWN COUNCIL MEETING - Work Session
DESCRIPTION:
URL:https://paul4virgintowncouncil.com/event/town-council-meeting-work-session-2/
END:VEVENT
BEGIN:VEVENT
DTSTART;TZID=America/Denver:20230208T180000
DTEND;TZID=America/Denver:20230208T180000
DTSTAMP:20260423T194450
CREATED:20230207T021240Z
LAST-MODIFIED:20230207T021248Z
UID:1618-1675879200-1675879200@paul4virgintowncouncil.com
SUMMARY:PLANNING & ZONING COMMISSION MEETING
DESCRIPTION:
URL:https://paul4virgintowncouncil.com/event/planning-zoning-commission-meeting-12/
END:VEVENT
BEGIN:VEVENT
DTSTART;TZID=America/Denver:20230203T143000
DTEND;TZID=America/Denver:20230203T143000
DTSTAMP:20260423T194450
CREATED:20230202T232122Z
LAST-MODIFIED:20230202T232131Z
UID:1604-1675434600-1675434600@paul4virgintowncouncil.com
SUMMARY:Capital Improvements Plan (CIP) Committee Meeting
DESCRIPTION:
URL:https://paul4virgintowncouncil.com/event/capital-improvements-plan-cip-committee-meeting-2/
END:VEVENT
BEGIN:VEVENT
DTSTART;TZID=America/Denver:20230202T143000
DTEND;TZID=America/Denver:20230202T143000
DTSTAMP:20260423T194450
CREATED:20230202T231627Z
LAST-MODIFIED:20230202T231636Z
UID:1600-1675348200-1675348200@paul4virgintowncouncil.com
SUMMARY:Capital Improvements Plan (CIP) Committee meeting
DESCRIPTION:
URL:https://paul4virgintowncouncil.com/event/capital-improvements-plan-cip-committee-meeting/
END:VEVENT
BEGIN:VEVENT
DTSTART;TZID=America/Denver:20230117T180000
DTEND;TZID=America/Denver:20230117T200000
DTSTAMP:20260423T194450
CREATED:20221231T181229Z
LAST-MODIFIED:20230117T015111Z
UID:1467-1673978400-1673985600@paul4virgintowncouncil.com
SUMMARY:TOWN COUNCIL MEETING
DESCRIPTION:
URL:https://paul4virgintowncouncil.com/event/town-council-meeting-13/
END:VEVENT
BEGIN:VEVENT
DTSTART;TZID=America/Denver:20230117T140000
DTEND;TZID=America/Denver:20230117T170000
DTSTAMP:20260423T194450
CREATED:20221231T181349Z
LAST-MODIFIED:20221231T181355Z
UID:1469-1673964000-1673974800@paul4virgintowncouncil.com
SUMMARY:HURRICANE VALLEY FIRE SPECIAL SERVICES DISTRICT MEETING
DESCRIPTION:
URL:https://paul4virgintowncouncil.com/event/hurricane-valley-fire-special-services-district-meeting/
END:VEVENT
BEGIN:VEVENT
DTSTART;TZID=America/Denver:20230112T183000
DTEND;TZID=America/Denver:20230112T210000
DTSTAMP:20260423T194450
CREATED:20230112T133041Z
LAST-MODIFIED:20221231T181554Z
UID:1465-1673548200-1673557200@paul4virgintowncouncil.com
SUMMARY:TOWN COUNCIL MEETING - Work Session
DESCRIPTION:
URL:https://paul4virgintowncouncil.com/event/1465/
END:VEVENT
BEGIN:VEVENT
DTSTART;TZID=America/Denver:20230112T183000
DTEND;TZID=America/Denver:20230112T210000
DTSTAMP:20260423T194450
CREATED:20221231T181724Z
LAST-MODIFIED:20221231T181734Z
UID:1472-1673548200-1673557200@paul4virgintowncouncil.com
SUMMARY:TOWN COUNCIL MEETING - Work Session
DESCRIPTION:
URL:https://paul4virgintowncouncil.com/event/town-council-meeting-work-session/
END:VEVENT
BEGIN:VEVENT
DTSTART;TZID=America/Denver:20230111T183000
DTEND;TZID=America/Denver:20230111T183000
DTSTAMP:20260423T194450
CREATED:20221231T185111Z
LAST-MODIFIED:20221231T185116Z
UID:1523-1673461800-1673461800@paul4virgintowncouncil.com
SUMMARY:PLANNING & ZONING COMMISSION MEETING
DESCRIPTION:
URL:https://paul4virgintowncouncil.com/event/planning-zoning-commission-meeting-11/
END:VEVENT
BEGIN:VEVENT
DTSTART;TZID=America/Denver:20230105T173000
DTEND;TZID=America/Denver:20230105T173000
DTSTAMP:20260423T194450
CREATED:20221231T180656Z
LAST-MODIFIED:20221231T180702Z
UID:1463-1672939800-1672939800@paul4virgintowncouncil.com
SUMMARY:Town Council Special Meeting
DESCRIPTION:
URL:https://paul4virgintowncouncil.com/event/town-council-special-meeting-2/
END:VEVENT
BEGIN:VEVENT
DTSTART;TZID=America/Denver:20221220T183000
DTEND;TZID=America/Denver:20221220T183000
DTSTAMP:20260423T194450
CREATED:20221218T032511Z
LAST-MODIFIED:20221218T032511Z
UID:1456-1671561000-1671561000@paul4virgintowncouncil.com
SUMMARY:HVFSSD Budget Hearing- @ La Verkin Council Chambers 111 S Main La Verkin
DESCRIPTION:
URL:https://paul4virgintowncouncil.com/event/hvfssd-budget-hearing-la-verkin-council-chambers-111-s-main-la-verkin/
END:VEVENT
BEGIN:VEVENT
DTSTART;TZID=America/Denver:20221219T183000
DTEND;TZID=America/Denver:20221219T210000
DTSTAMP:20260423T194450
CREATED:20221216T004246Z
LAST-MODIFIED:20221216T004252Z
UID:1439-1671474600-1671483600@paul4virgintowncouncil.com
SUMMARY:Town Council Meeting
DESCRIPTION:
URL:https://paul4virgintowncouncil.com/event/town-council-meeting-12/
END:VEVENT
END:VCALENDAR