BEGIN:VCALENDAR
VERSION:2.0
PRODID:-//RE-ELECT PAUL LUWE to VIRGIN TOWN COUNCIL - ECPv6.15.20//NONSGML v1.0//EN
CALSCALE:GREGORIAN
METHOD:PUBLISH
X-WR-CALNAME:RE-ELECT PAUL LUWE to VIRGIN TOWN COUNCIL
X-ORIGINAL-URL:https://paul4virgintowncouncil.com
X-WR-CALDESC:Events for RE-ELECT PAUL LUWE to VIRGIN TOWN COUNCIL
REFRESH-INTERVAL;VALUE=DURATION:PT1H
X-Robots-Tag:noindex
X-PUBLISHED-TTL:PT1H
BEGIN:VTIMEZONE
TZID:America/Denver
BEGIN:DAYLIGHT
TZOFFSETFROM:-0700
TZOFFSETTO:-0600
TZNAME:MDT
DTSTART:20210314T090000
END:DAYLIGHT
BEGIN:STANDARD
TZOFFSETFROM:-0600
TZOFFSETTO:-0700
TZNAME:MST
DTSTART:20211107T080000
END:STANDARD
BEGIN:DAYLIGHT
TZOFFSETFROM:-0700
TZOFFSETTO:-0600
TZNAME:MDT
DTSTART:20220313T090000
END:DAYLIGHT
BEGIN:STANDARD
TZOFFSETFROM:-0600
TZOFFSETTO:-0700
TZNAME:MST
DTSTART:20221106T080000
END:STANDARD
BEGIN:DAYLIGHT
TZOFFSETFROM:-0700
TZOFFSETTO:-0600
TZNAME:MDT
DTSTART:20230312T090000
END:DAYLIGHT
BEGIN:STANDARD
TZOFFSETFROM:-0600
TZOFFSETTO:-0700
TZNAME:MST
DTSTART:20231105T080000
END:STANDARD
END:VTIMEZONE
BEGIN:VEVENT
DTSTART;TZID=America/Denver:20221026T180000
DTEND;TZID=America/Denver:20221026T180000
DTSTAMP:20260423T232015
CREATED:20220201T014952Z
LAST-MODIFIED:20221025T225748Z
UID:872-1666807200-1666807200@paul4virgintowncouncil.com
SUMMARY:Town Council Meeting
DESCRIPTION:
URL:https://paul4virgintowncouncil.com/event/town-council-meeting-9/
END:VEVENT
BEGIN:VEVENT
DTSTART;TZID=America/Denver:20221014T100000
DTEND;TZID=America/Denver:20221014T130000
DTSTAMP:20260423T232015
CREATED:20221012T022117Z
LAST-MODIFIED:20221012T022123Z
UID:1385-1665741600-1665752400@paul4virgintowncouncil.com
SUMMARY:Town Council Special Meeting
DESCRIPTION:
URL:https://paul4virgintowncouncil.com/event/town-council-special-meeting/
END:VEVENT
BEGIN:VEVENT
DTSTART;TZID=America/Denver:20221013T180000
DTEND;TZID=America/Denver:20221013T213000
DTSTAMP:20260423T232015
CREATED:20220201T020409Z
LAST-MODIFIED:20221013T151709Z
UID:896-1665684000-1665696600@paul4virgintowncouncil.com
SUMMARY:Planning & Zoning Commission Meeting
DESCRIPTION:
URL:https://paul4virgintowncouncil.com/event/planning-zoning-commission-meeting-10/
END:VEVENT
BEGIN:VEVENT
DTSTART;TZID=America/Denver:20221001T150000
DTEND;TZID=America/Denver:20221001T193000
DTSTAMP:20260423T232015
CREATED:20220921T015742Z
LAST-MODIFIED:20220921T015746Z
UID:1359-1664636400-1664652600@paul4virgintowncouncil.com
SUMMARY:FALL FESTIVAL
DESCRIPTION:
URL:https://paul4virgintowncouncil.com/event/fall-festival/
END:VEVENT
BEGIN:VEVENT
DTSTART;TZID=America/Denver:20220928T183000
DTEND;TZID=America/Denver:20220928T183000
DTSTAMP:20260423T232015
CREATED:20220201T000521Z
LAST-MODIFIED:20220201T000525Z
UID:870-1664389800-1664389800@paul4virgintowncouncil.com
SUMMARY:Town Council Meeting
DESCRIPTION:
URL:https://paul4virgintowncouncil.com/event/town-council-meeting-8/
END:VEVENT
BEGIN:VEVENT
DTSTART;TZID=America/Denver:20220914T183000
DTEND;TZID=America/Denver:20220914T183000
DTSTAMP:20260423T232015
CREATED:20220201T015923Z
LAST-MODIFIED:20220201T015930Z
UID:886-1663180200-1663180200@paul4virgintowncouncil.com
SUMMARY:Planning & Zoning Commission Meeting
DESCRIPTION:
URL:https://paul4virgintowncouncil.com/event/planning-zoning-commission-meeting-6/
END:VEVENT
BEGIN:VEVENT
DTSTART;TZID=America/Denver:20220913T130000
DTEND;TZID=America/Denver:20220913T130000
DTSTAMP:20260423T232015
CREATED:20220901T145536Z
LAST-MODIFIED:20220901T145540Z
UID:1342-1663074000-1663074000@paul4virgintowncouncil.com
SUMMARY:LaBrie Appeal Hearing
DESCRIPTION:
URL:https://paul4virgintowncouncil.com/event/labrie-appeal-hearing/
END:VEVENT
BEGIN:VEVENT
DTSTART;TZID=America/Denver:20220909T190000
DTEND;TZID=America/Denver:20220909T213000
DTSTAMP:20260423T232015
CREATED:20220901T145417Z
LAST-MODIFIED:20220901T145420Z
UID:1340-1662750000-1662759000@paul4virgintowncouncil.com
SUMMARY:BINGO NIGHT
DESCRIPTION:
URL:https://paul4virgintowncouncil.com/event/bingo-night/
END:VEVENT
BEGIN:VEVENT
DTSTART;TZID=America/Denver:20220824T183000
DTEND;TZID=America/Denver:20220824T183000
DTSTAMP:20260423T232015
CREATED:20220201T000426Z
LAST-MODIFIED:20220201T000430Z
UID:867-1661365800-1661365800@paul4virgintowncouncil.com
SUMMARY:Town Council Meeting
DESCRIPTION:
URL:https://paul4virgintowncouncil.com/event/town-council-meeting-7/
END:VEVENT
BEGIN:VEVENT
DTSTART;TZID=America/Denver:20220810T183000
DTEND;TZID=America/Denver:20220810T183000
DTSTAMP:20260423T232015
CREATED:20220201T020310Z
LAST-MODIFIED:20220201T020316Z
UID:894-1660156200-1660156200@paul4virgintowncouncil.com
SUMMARY:Planning & Zoning Commission Meeting
DESCRIPTION:
URL:https://paul4virgintowncouncil.com/event/planning-zoning-commission-meeting-9/
END:VEVENT
BEGIN:VEVENT
DTSTART;TZID=America/Denver:20220805T060000
DTEND;TZID=America/Denver:20220805T200000
DTSTAMP:20260423T232015
CREATED:20220802T035139Z
LAST-MODIFIED:20220802T035143Z
UID:1298-1659679200-1659729600@paul4virgintowncouncil.com
SUMMARY:ICE CREAM SOCIAL
DESCRIPTION:@ Heritage Town Square
URL:https://paul4virgintowncouncil.com/event/ice-cream-social/
END:VEVENT
BEGIN:VEVENT
DTSTART;TZID=America/Denver:20220727T183000
DTEND;TZID=America/Denver:20220727T183000
DTSTAMP:20260423T232015
CREATED:20220201T000331Z
LAST-MODIFIED:20220201T000336Z
UID:865-1658946600-1658946600@paul4virgintowncouncil.com
SUMMARY:Town Council Meeting
DESCRIPTION:
URL:https://paul4virgintowncouncil.com/event/town-council-meeting-6/
END:VEVENT
BEGIN:VEVENT
DTSTART;TZID=America/Denver:20220720T180000
DTEND;TZID=America/Denver:20220720T210000
DTSTAMP:20260423T232015
CREATED:20220616T191433Z
LAST-MODIFIED:20220616T191437Z
UID:1136-1658340000-1658350800@paul4virgintowncouncil.com
SUMMARY:RE-SCHEDULED POCKETVILLE ROAD MEETING
DESCRIPTION:
URL:https://paul4virgintowncouncil.com/event/re-scheduled-pocketville-road-meeting/
END:VEVENT
BEGIN:VEVENT
DTSTART;TZID=America/Denver:20220713T183000
DTEND;TZID=America/Denver:20220713T183000
DTSTAMP:20260423T232015
CREATED:20220201T015704Z
LAST-MODIFIED:20220201T015708Z
UID:884-1657737000-1657737000@paul4virgintowncouncil.com
SUMMARY:Planning & Zoning Commission Meeting
DESCRIPTION:
URL:https://paul4virgintowncouncil.com/event/planning-zoning-commission-meeting-5/
END:VEVENT
BEGIN:VEVENT
DTSTART;TZID=America/Denver:20220702T180000
DTEND;TZID=America/Denver:20220702T180000
DTSTAMP:20260423T232015
CREATED:20220609T035219Z
LAST-MODIFIED:20220609T035222Z
UID:1125-1656784800-1656784800@paul4virgintowncouncil.com
SUMMARY:4th of July Celebration
DESCRIPTION:At Town Park – Dinner\, Bounce Houses\, Dancing\, Silent Auction
URL:https://paul4virgintowncouncil.com/event/4th-of-july-celebration/
END:VEVENT
BEGIN:VEVENT
DTSTART;TZID=America/Denver:20220622T183000
DTEND;TZID=America/Denver:20220622T183000
DTSTAMP:20260423T232015
CREATED:20220201T000210Z
LAST-MODIFIED:20220201T000218Z
UID:863-1655922600-1655922600@paul4virgintowncouncil.com
SUMMARY:Town Council Meeting
DESCRIPTION:
URL:https://paul4virgintowncouncil.com/event/town-council-meeting-5/
END:VEVENT
BEGIN:VEVENT
DTSTART;TZID=America/Denver:20220615T190000
DTEND;TZID=America/Denver:20220615T210000
DTSTAMP:20260423T232015
CREATED:20220531T170312Z
LAST-MODIFIED:20220531T170316Z
UID:1111-1655319600-1655326800@paul4virgintowncouncil.com
SUMMARY:TOWN HALL MEETNG
DESCRIPTION:Pocketville Road traffic calming
URL:https://paul4virgintowncouncil.com/event/town-hall-meetng/
END:VEVENT
BEGIN:VEVENT
DTSTART;TZID=America/Denver:20220608T183000
DTEND;TZID=America/Denver:20220608T183000
DTSTAMP:20260423T232015
CREATED:20220201T015619Z
LAST-MODIFIED:20220201T015623Z
UID:882-1654713000-1654713000@paul4virgintowncouncil.com
SUMMARY:Planning & Zoning Commission Meeting
DESCRIPTION:
URL:https://paul4virgintowncouncil.com/event/planning-zoning-commission-meeting-4/
END:VEVENT
BEGIN:VEVENT
DTSTART;TZID=America/Denver:20220525T183000
DTEND;TZID=America/Denver:20220525T183000
DTSTAMP:20260423T232015
CREATED:20220131T233536Z
LAST-MODIFIED:20220131T233540Z
UID:861-1653503400-1653503400@paul4virgintowncouncil.com
SUMMARY:Town Council Meeting
DESCRIPTION:
URL:https://paul4virgintowncouncil.com/event/town-council-meeting-4/
END:VEVENT
BEGIN:VEVENT
DTSTART;TZID=America/Denver:20220511T183000
DTEND;TZID=America/Denver:20220511T183000
DTSTAMP:20260423T232015
CREATED:20220201T015522Z
LAST-MODIFIED:20220201T015527Z
UID:880-1652293800-1652293800@paul4virgintowncouncil.com
SUMMARY:Planning & Zoning Commission Meeting
DESCRIPTION:
URL:https://paul4virgintowncouncil.com/event/planning-zoning-commission-meeting-3/
END:VEVENT
BEGIN:VEVENT
DTSTART;TZID=America/Denver:20220427T183000
DTEND;TZID=America/Denver:20220427T183000
DTSTAMP:20260423T232015
CREATED:20220131T233325Z
LAST-MODIFIED:20220131T233330Z
UID:858-1651084200-1651084200@paul4virgintowncouncil.com
SUMMARY:Town Council Meeting
DESCRIPTION:
URL:https://paul4virgintowncouncil.com/event/town-council-meeting-3/
END:VEVENT
BEGIN:VEVENT
DTSTART;TZID=America/Denver:20220415T200000
DTEND;TZID=America/Denver:20220415T200000
DTSTAMP:20260423T232015
CREATED:20220411T171009Z
LAST-MODIFIED:20220411T171013Z
UID:1032-1650052800-1650052800@paul4virgintowncouncil.com
SUMMARY:EASTER EGG HUNT
DESCRIPTION:glow in the dark easter eggs
URL:https://paul4virgintowncouncil.com/event/easter-egg-hunt/
END:VEVENT
BEGIN:VEVENT
DTSTART;TZID=America/Denver:20220413T183000
DTEND;TZID=America/Denver:20220413T183000
DTSTAMP:20260423T232015
CREATED:20220201T015355Z
LAST-MODIFIED:20220411T175657Z
UID:878-1649874600-1649874600@paul4virgintowncouncil.com
SUMMARY:Planning & Zoning Commission Meeting
DESCRIPTION:For agenda and documents – go here
URL:https://paul4virgintowncouncil.com/event/planning-zoning-commission-meeting-2/
END:VEVENT
BEGIN:VEVENT
DTSTART;TZID=America/Denver:20220413T180000
DTEND;TZID=America/Denver:20220413T180000
DTSTAMP:20260423T232015
CREATED:20220411T164312Z
LAST-MODIFIED:20220411T164317Z
UID:1026-1649872800-1649872800@paul4virgintowncouncil.com
SUMMARY:SPECIAL MEETING - Town Council
DESCRIPTION:To appoint member to Fire District Board
URL:https://paul4virgintowncouncil.com/event/special-meeting-town-council/
END:VEVENT
BEGIN:VEVENT
DTSTART;TZID=America/Denver:20220323T183000
DTEND;TZID=America/Denver:20220323T183000
DTSTAMP:20260423T232015
CREATED:20220131T232932Z
LAST-MODIFIED:20220131T233019Z
UID:856-1648060200-1648060200@paul4virgintowncouncil.com
SUMMARY:Town Council Meeting
DESCRIPTION:
URL:https://paul4virgintowncouncil.com/event/town-council-meeting-2/
END:VEVENT
BEGIN:VEVENT
DTSTART;TZID=America/Denver:20220309T183000
DTEND;TZID=America/Denver:20220309T183000
DTSTAMP:20260423T232015
CREATED:20220201T015258Z
LAST-MODIFIED:20220309T163614Z
UID:876-1646850600-1646850600@paul4virgintowncouncil.com
SUMMARY:Planning & Zoning Commission Meeting
DESCRIPTION:Agenda is here
URL:https://paul4virgintowncouncil.com/event/planning-zoning-commission-meeting/
END:VEVENT
BEGIN:VEVENT
DTSTART;TZID=America/Denver:20220223T183000
DTEND;TZID=America/Denver:20220223T183000
DTSTAMP:20260423T232015
CREATED:20220131T232809Z
LAST-MODIFIED:20220131T232814Z
UID:854-1645641000-1645641000@paul4virgintowncouncil.com
SUMMARY:Town Council
DESCRIPTION:
URL:https://paul4virgintowncouncil.com/event/town-council/
END:VEVENT
BEGIN:VEVENT
DTSTART;TZID=America/Denver:20220218T093000
DTEND;TZID=America/Denver:20220218T123000
DTSTAMP:20260423T232015
CREATED:20220121T043419Z
LAST-MODIFIED:20220121T043424Z
UID:832-1645176600-1645187400@paul4virgintowncouncil.com
SUMMARY:Public Officials Training
DESCRIPTION:In Springdale at Canyon Community Center
URL:https://paul4virgintowncouncil.com/event/public-officials-training/
END:VEVENT
BEGIN:VEVENT
DTSTART;TZID=America/Denver:20220209T183000
DTEND;TZID=America/Denver:20220209T183000
DTSTAMP:20260423T232015
CREATED:20220131T230020Z
LAST-MODIFIED:20220131T231027Z
UID:851-1644431400-1644431400@paul4virgintowncouncil.com
SUMMARY:Planning & Zoning Meeting
DESCRIPTION:
URL:https://paul4virgintowncouncil.com/event/planning-zoning-meeting/
END:VEVENT
BEGIN:VEVENT
DTSTART;TZID=America/Denver:20220126T180000
DTEND;TZID=America/Denver:20220126T220000
DTSTAMP:20260423T232015
CREATED:20220105T184050Z
LAST-MODIFIED:20220107T024422Z
UID:733-1643220000-1643234400@paul4virgintowncouncil.com
SUMMARY:TOWN COUNCIL MEETING
DESCRIPTION:Regular Meeting – location TBD
URL:https://paul4virgintowncouncil.com/event/town-council-meeting/
END:VEVENT
END:VCALENDAR