BEGIN:VCALENDAR
VERSION:2.0
PRODID:-//RE-ELECT PAUL LUWE to VIRGIN TOWN COUNCIL - ECPv6.15.20//NONSGML v1.0//EN
CALSCALE:GREGORIAN
METHOD:PUBLISH
X-ORIGINAL-URL:https://paul4virgintowncouncil.com
X-WR-CALDESC:Events for RE-ELECT PAUL LUWE to VIRGIN TOWN COUNCIL
REFRESH-INTERVAL;VALUE=DURATION:PT1H
X-Robots-Tag:noindex
X-PUBLISHED-TTL:PT1H
BEGIN:VTIMEZONE
TZID:America/Denver
BEGIN:DAYLIGHT
TZOFFSETFROM:-0700
TZOFFSETTO:-0600
TZNAME:MDT
DTSTART:20230312T090000
END:DAYLIGHT
BEGIN:STANDARD
TZOFFSETFROM:-0600
TZOFFSETTO:-0700
TZNAME:MST
DTSTART:20231105T080000
END:STANDARD
BEGIN:DAYLIGHT
TZOFFSETFROM:-0700
TZOFFSETTO:-0600
TZNAME:MDT
DTSTART:20240310T090000
END:DAYLIGHT
BEGIN:STANDARD
TZOFFSETFROM:-0600
TZOFFSETTO:-0700
TZNAME:MST
DTSTART:20241103T080000
END:STANDARD
BEGIN:DAYLIGHT
TZOFFSETFROM:-0700
TZOFFSETTO:-0600
TZNAME:MDT
DTSTART:20250309T090000
END:DAYLIGHT
BEGIN:STANDARD
TZOFFSETFROM:-0600
TZOFFSETTO:-0700
TZNAME:MST
DTSTART:20251102T080000
END:STANDARD
END:VTIMEZONE
BEGIN:VEVENT
DTSTART;TZID=America/Denver:20240903T180000
DTEND;TZID=America/Denver:20240903T180000
DTSTAMP:20260423T113039
CREATED:20240527T041025Z
LAST-MODIFIED:20240527T041029Z
UID:2279-1725386400-1725386400@paul4virgintowncouncil.com
SUMMARY:Hurricane Special Services Fire District Board Meeting
DESCRIPTION:
URL:https://paul4virgintowncouncil.com/event/hurricane-special-services-fire-district-board-meeting-6/
END:VEVENT
BEGIN:VEVENT
DTSTART;TZID=America/Denver:20240827T163000
DTEND;TZID=America/Denver:20240827T163000
DTSTAMP:20260423T113039
CREATED:20240822T163412Z
LAST-MODIFIED:20240822T163416Z
UID:2435-1724776200-1724776200@paul4virgintowncouncil.com
SUMMARY:TOWN COUNCIL SPECIAL MEETING
DESCRIPTION:
URL:https://paul4virgintowncouncil.com/event/town-council-special-meeting-4/
END:VEVENT
BEGIN:VEVENT
DTSTART;TZID=America/Denver:20240821T180000
DTEND;TZID=America/Denver:20240821T180000
DTSTAMP:20260423T113039
CREATED:20240527T033856Z
LAST-MODIFIED:20240527T035047Z
UID:2248-1724263200-1724263200@paul4virgintowncouncil.com
SUMMARY:PLANNING & ZONING WORK MEETING
DESCRIPTION:
URL:https://paul4virgintowncouncil.com/event/planning-zoning-work-meeting-4/
END:VEVENT
BEGIN:VEVENT
DTSTART;TZID=America/Denver:20240820T180000
DTEND;TZID=America/Denver:20240820T180000
DTSTAMP:20260423T113039
CREATED:20240527T013640Z
LAST-MODIFIED:20240527T013643Z
UID:2233-1724176800-1724176800@paul4virgintowncouncil.com
SUMMARY:TOWN COUNCIL REGULAR MEETING
DESCRIPTION:
URL:https://paul4virgintowncouncil.com/event/town-council-regular-meeting-9/
END:VEVENT
BEGIN:VEVENT
DTSTART;TZID=America/Denver:20240815T180000
DTEND;TZID=America/Denver:20240815T180000
DTSTAMP:20260423T113039
CREATED:20240527T012150Z
LAST-MODIFIED:20240527T012154Z
UID:2217-1723744800-1723744800@paul4virgintowncouncil.com
SUMMARY:TOWN COUNCIL WORK MEETING
DESCRIPTION:
URL:https://paul4virgintowncouncil.com/event/town-council-work-meeting-7/
END:VEVENT
BEGIN:VEVENT
DTSTART;TZID=America/Denver:20240814T180000
DTEND;TZID=America/Denver:20240814T180000
DTSTAMP:20260423T113039
CREATED:20240527T035322Z
LAST-MODIFIED:20240527T035327Z
UID:2262-1723658400-1723658400@paul4virgintowncouncil.com
SUMMARY:PLANNING & ZONING REGULAR MEETING
DESCRIPTION:
URL:https://paul4virgintowncouncil.com/event/planning-zoning-regular-meeting-6/
END:VEVENT
BEGIN:VEVENT
DTSTART;TZID=America/Denver:20240805T200000
DTEND;TZID=America/Denver:20240805T200000
DTSTAMP:20260423T113039
CREATED:20240527T040908Z
LAST-MODIFIED:20240527T040912Z
UID:2275-1722888000-1722888000@paul4virgintowncouncil.com
SUMMARY:Hurricane Special Services Fire District Board Meeting
DESCRIPTION:
URL:https://paul4virgintowncouncil.com/event/hurricane-special-services-fire-district-board-meeting-4/
END:VEVENT
BEGIN:VEVENT
DTSTART;TZID=America/Denver:20240805T180000
DTEND;TZID=America/Denver:20240805T180000
DTSTAMP:20260423T113039
CREATED:20240527T040950Z
LAST-MODIFIED:20240527T040953Z
UID:2277-1722880800-1722880800@paul4virgintowncouncil.com
SUMMARY:Hurricane Special Services Fire District Board Meeting
DESCRIPTION:
URL:https://paul4virgintowncouncil.com/event/hurricane-special-services-fire-district-board-meeting-5/
END:VEVENT
BEGIN:VEVENT
DTSTART;TZID=America/Denver:20240723T160000
DTEND;TZID=America/Denver:20240723T170000
DTSTAMP:20260423T113039
CREATED:20240717T203250Z
LAST-MODIFIED:20240717T203255Z
UID:2414-1721750400-1721754000@paul4virgintowncouncil.com
SUMMARY:TOWN COUNCIL SPECIAL MEETING
DESCRIPTION:
URL:https://paul4virgintowncouncil.com/event/town-council-special-meeting-3/
END:VEVENT
BEGIN:VEVENT
DTSTART;TZID=America/Denver:20240717T180000
DTEND;TZID=America/Denver:20240717T180000
DTSTAMP:20260423T113039
CREATED:20240527T033758Z
LAST-MODIFIED:20240527T034956Z
UID:2246-1721239200-1721239200@paul4virgintowncouncil.com
SUMMARY:PLANNING & ZONING WORK MEETING
DESCRIPTION:
URL:https://paul4virgintowncouncil.com/event/planning-zoning-work-meeting-3/
END:VEVENT
BEGIN:VEVENT
DTSTART;TZID=America/Denver:20240716T180000
DTEND;TZID=America/Denver:20240716T180000
DTSTAMP:20260423T113039
CREATED:20240527T013558Z
LAST-MODIFIED:20240527T013602Z
UID:2231-1721152800-1721152800@paul4virgintowncouncil.com
SUMMARY:TOWN COUNCIL REGULAR MEETING
DESCRIPTION:
URL:https://paul4virgintowncouncil.com/event/town-council-regular-meeting-8/
END:VEVENT
BEGIN:VEVENT
DTSTART;TZID=America/Denver:20240711T180000
DTEND;TZID=America/Denver:20240711T180000
DTSTAMP:20260423T113039
CREATED:20240527T012044Z
LAST-MODIFIED:20240527T012048Z
UID:2215-1720720800-1720720800@paul4virgintowncouncil.com
SUMMARY:TOWN COUNCIL WORK MEETING
DESCRIPTION:
URL:https://paul4virgintowncouncil.com/event/town-council-work-meeting-6/
END:VEVENT
BEGIN:VEVENT
DTSTART;TZID=America/Denver:20240711T180000
DTEND;TZID=America/Denver:20240711T180000
DTSTAMP:20260423T113039
CREATED:20240311T043314Z
LAST-MODIFIED:20240516T185421Z
UID:2178-1720720800-1720720800@paul4virgintowncouncil.com
SUMMARY:TOWN COUNCIL WORK MEETING
DESCRIPTION:
URL:https://paul4virgintowncouncil.com/event/town-council-work-meeting-4/
END:VEVENT
BEGIN:VEVENT
DTSTART;TZID=America/Denver:20240710T180000
DTEND;TZID=America/Denver:20240710T180000
DTSTAMP:20260423T113039
CREATED:20240527T035240Z
LAST-MODIFIED:20240527T035244Z
UID:2260-1720634400-1720634400@paul4virgintowncouncil.com
SUMMARY:PLANNING & ZONING REGULAR MEETING
DESCRIPTION:
URL:https://paul4virgintowncouncil.com/event/planning-zoning-regular-meeting-5/
END:VEVENT
BEGIN:VEVENT
DTSTART;TZID=America/Denver:20240704T063000
DTEND;TZID=America/Denver:20240704T110000
DTSTAMP:20260423T113039
CREATED:20240702T023116Z
LAST-MODIFIED:20240702T023121Z
UID:2328-1720074600-1720090800@paul4virgintowncouncil.com
SUMMARY:4th of July Celebration
DESCRIPTION:
URL:https://paul4virgintowncouncil.com/event/4th-of-july-celebration-2/
END:VEVENT
BEGIN:VEVENT
DTSTART;TZID=America/Denver:20240703T193000
DTEND;TZID=America/Denver:20240703T193000
DTSTAMP:20260423T113039
CREATED:20240702T022913Z
LAST-MODIFIED:20240702T022938Z
UID:2326-1720035000-1720035000@paul4virgintowncouncil.com
SUMMARY:4th of July Celebration - Concert in Park
DESCRIPTION:
URL:https://paul4virgintowncouncil.com/event/4th-of-july-celebration-concert-in-park/
END:VEVENT
BEGIN:VEVENT
DTSTART;TZID=America/Denver:20240702T150000
DTEND;TZID=America/Denver:20240702T150000
DTSTAMP:20260423T113039
CREATED:20240702T021707Z
LAST-MODIFIED:20240702T021712Z
UID:2322-1719932400-1719932400@paul4virgintowncouncil.com
SUMMARY:Special Town Council Meeting
DESCRIPTION:
URL:https://paul4virgintowncouncil.com/event/special-town-council-meeting/
END:VEVENT
BEGIN:VEVENT
DTSTART;TZID=America/Denver:20240701T180000
DTEND;TZID=America/Denver:20240701T180000
DTSTAMP:20260423T113039
CREATED:20240527T040441Z
LAST-MODIFIED:20240527T040444Z
UID:2273-1719856800-1719856800@paul4virgintowncouncil.com
SUMMARY:Hurricane Special Services Fire District Board Meeting
DESCRIPTION:
URL:https://paul4virgintowncouncil.com/event/hurricane-special-services-fire-district-board-meeting-3/
END:VEVENT
BEGIN:VEVENT
DTSTART;TZID=America/Denver:20240625T180000
DTEND;TZID=America/Denver:20240625T180000
DTSTAMP:20260423T113039
CREATED:20240614T004358Z
LAST-MODIFIED:20240614T004401Z
UID:2306-1719338400-1719338400@paul4virgintowncouncil.com
SUMMARY:TOWN COUNCIL REGULAR MEETING
DESCRIPTION:
URL:https://paul4virgintowncouncil.com/event/town-council-regular-meeting-14/
END:VEVENT
BEGIN:VEVENT
DTSTART;TZID=America/Denver:20240619T180000
DTEND;TZID=America/Denver:20240619T180000
DTSTAMP:20260423T113039
CREATED:20240527T033635Z
LAST-MODIFIED:20240527T034855Z
UID:2244-1718820000-1718820000@paul4virgintowncouncil.com
SUMMARY:PLANNING & ZONING WORK MEETING
DESCRIPTION:
URL:https://paul4virgintowncouncil.com/event/planning-zoning-work-meeting-2/
END:VEVENT
BEGIN:VEVENT
DTSTART;TZID=America/Denver:20240618T180000
DTEND;TZID=America/Denver:20240618T180000
DTSTAMP:20260423T113039
CREATED:20240527T013419Z
LAST-MODIFIED:20240614T001809Z
UID:2228-1718733600-1718733600@paul4virgintowncouncil.com
SUMMARY:TOWN COUNCIL WORK MEETING
DESCRIPTION:
URL:https://paul4virgintowncouncil.com/event/town-council-regular-meeting-7/
END:VEVENT
BEGIN:VEVENT
DTSTART;TZID=America/Denver:20240613T180000
DTEND;TZID=America/Denver:20240613T180000
DTSTAMP:20260423T113039
CREATED:20240527T011926Z
LAST-MODIFIED:20240614T002441Z
UID:2213-1718301600-1718301600@paul4virgintowncouncil.com
SUMMARY:TOWN COUNCIL WORK MEETING- (rescheduled to June 18th)
DESCRIPTION:
URL:https://paul4virgintowncouncil.com/event/town-council-work-meeting-5/
END:VEVENT
BEGIN:VEVENT
DTSTART;TZID=America/Denver:20240612T173000
DTEND;TZID=America/Denver:20240612T173000
DTSTAMP:20260423T113039
CREATED:20240527T035208Z
LAST-MODIFIED:20240612T040152Z
UID:2258-1718213400-1718213400@paul4virgintowncouncil.com
SUMMARY:PLANNING & ZONING REGULAR MEETING
DESCRIPTION:
URL:https://paul4virgintowncouncil.com/event/planning-zoning-regular-meeting-4/
END:VEVENT
BEGIN:VEVENT
DTSTART;TZID=America/Denver:20240605T180000
DTEND;TZID=America/Denver:20240605T180000
DTSTAMP:20260423T113039
CREATED:20240604T030315Z
LAST-MODIFIED:20240604T030320Z
UID:2294-1717610400-1717610400@paul4virgintowncouncil.com
SUMMARY:PLANNING & ZONING WORK MEETING
DESCRIPTION:
URL:https://paul4virgintowncouncil.com/event/planning-zoning-work-meeting-8/
END:VEVENT
BEGIN:VEVENT
DTSTART;TZID=America/Denver:20240603T180000
DTEND;TZID=America/Denver:20240603T180000
DTSTAMP:20260423T113039
CREATED:20240604T023442Z
LAST-MODIFIED:20240604T023447Z
UID:2287-1717437600-1717437600@paul4virgintowncouncil.com
SUMMARY:PLANNING & ZONING COMMISSION WORK MEETING
DESCRIPTION:
URL:https://paul4virgintowncouncil.com/event/planning-zoning-commission-work-meeting/
END:VEVENT
BEGIN:VEVENT
DTSTART;TZID=America/Denver:20240603T180000
DTEND;TZID=America/Denver:20240603T180000
DTSTAMP:20260423T113039
CREATED:20240527T040356Z
LAST-MODIFIED:20240527T040401Z
UID:2271-1717437600-1717437600@paul4virgintowncouncil.com
SUMMARY:Hurricane Special Services Fire District Board Meeting
DESCRIPTION:
URL:https://paul4virgintowncouncil.com/event/hurricane-special-services-fire-district-board-meeting-2/
END:VEVENT
BEGIN:VEVENT
DTSTART;TZID=America/Denver:20240521T180000
DTEND;TZID=America/Denver:20240521T180000
DTSTAMP:20260423T113039
CREATED:20240519T165437Z
LAST-MODIFIED:20240519T165441Z
UID:2208-1716314400-1716314400@paul4virgintowncouncil.com
SUMMARY:TOWN COUNCIL REGULAR MEETING
DESCRIPTION:
URL:https://paul4virgintowncouncil.com/event/town-council-regular-meeting-6/
END:VEVENT
BEGIN:VEVENT
DTSTART;TZID=America/Denver:20240516T180000
DTEND;TZID=America/Denver:20240516T180000
DTSTAMP:20260423T113039
CREATED:20240311T043137Z
LAST-MODIFIED:20240516T185601Z
UID:2176-1715882400-1715882400@paul4virgintowncouncil.com
SUMMARY:TOWN COUNCIL WORK MEETING
DESCRIPTION:
URL:https://paul4virgintowncouncil.com/event/town-council-work-meeting-3/
END:VEVENT
BEGIN:VEVENT
DTSTART;TZID=America/Denver:20240416T180000
DTEND;TZID=America/Denver:20240416T180000
DTSTAMP:20260423T113039
CREATED:20240414T161753Z
LAST-MODIFIED:20240414T161756Z
UID:2194-1713290400-1713290400@paul4virgintowncouncil.com
SUMMARY:TOWN COUNCIL REGULAR MEETING
DESCRIPTION:
URL:https://paul4virgintowncouncil.com/event/town-council-regular-meeting-5/
END:VEVENT
BEGIN:VEVENT
DTSTART;TZID=America/Denver:20240411T180000
DTEND;TZID=America/Denver:20240411T180000
DTSTAMP:20260423T113039
CREATED:20240311T042742Z
LAST-MODIFIED:20240411T044722Z
UID:2173-1712858400-1712858400@paul4virgintowncouncil.com
SUMMARY:TOWN COUNCIL WORK MEETING
DESCRIPTION:
URL:https://paul4virgintowncouncil.com/event/town-council-regular-meeting-4/
END:VEVENT
END:VCALENDAR