BEGIN:VCALENDAR
VERSION:2.0
PRODID:-//RE-ELECT PAUL LUWE to VIRGIN TOWN COUNCIL - ECPv6.15.20//NONSGML v1.0//EN
CALSCALE:GREGORIAN
METHOD:PUBLISH
X-WR-CALNAME:RE-ELECT PAUL LUWE to VIRGIN TOWN COUNCIL
X-ORIGINAL-URL:https://paul4virgintowncouncil.com
X-WR-CALDESC:Events for RE-ELECT PAUL LUWE to VIRGIN TOWN COUNCIL
REFRESH-INTERVAL;VALUE=DURATION:PT1H
X-Robots-Tag:noindex
X-PUBLISHED-TTL:PT1H
BEGIN:VTIMEZONE
TZID:America/Denver
BEGIN:DAYLIGHT
TZOFFSETFROM:-0700
TZOFFSETTO:-0600
TZNAME:MDT
DTSTART:20220313T090000
END:DAYLIGHT
BEGIN:STANDARD
TZOFFSETFROM:-0600
TZOFFSETTO:-0700
TZNAME:MST
DTSTART:20221106T080000
END:STANDARD
BEGIN:DAYLIGHT
TZOFFSETFROM:-0700
TZOFFSETTO:-0600
TZNAME:MDT
DTSTART:20230312T090000
END:DAYLIGHT
BEGIN:STANDARD
TZOFFSETFROM:-0600
TZOFFSETTO:-0700
TZNAME:MST
DTSTART:20231105T080000
END:STANDARD
BEGIN:DAYLIGHT
TZOFFSETFROM:-0700
TZOFFSETTO:-0600
TZNAME:MDT
DTSTART:20240310T090000
END:DAYLIGHT
BEGIN:STANDARD
TZOFFSETFROM:-0600
TZOFFSETTO:-0700
TZNAME:MST
DTSTART:20241103T080000
END:STANDARD
BEGIN:DAYLIGHT
TZOFFSETFROM:-0700
TZOFFSETTO:-0600
TZNAME:MDT
DTSTART:20250309T090000
END:DAYLIGHT
BEGIN:STANDARD
TZOFFSETFROM:-0600
TZOFFSETTO:-0700
TZNAME:MST
DTSTART:20251102T080000
END:STANDARD
END:VTIMEZONE
BEGIN:VEVENT
DTSTART;TZID=America/Denver:20240603T180000
DTEND;TZID=America/Denver:20240603T180000
DTSTAMP:20260423T140451
CREATED:20240604T023442Z
LAST-MODIFIED:20240604T023447Z
UID:2287-1717437600-1717437600@paul4virgintowncouncil.com
SUMMARY:PLANNING & ZONING COMMISSION WORK MEETING
DESCRIPTION:
URL:https://paul4virgintowncouncil.com/event/planning-zoning-commission-work-meeting/
END:VEVENT
BEGIN:VEVENT
DTSTART;TZID=America/Denver:20240603T180000
DTEND;TZID=America/Denver:20240603T180000
DTSTAMP:20260423T140451
CREATED:20240527T040356Z
LAST-MODIFIED:20240527T040401Z
UID:2271-1717437600-1717437600@paul4virgintowncouncil.com
SUMMARY:Hurricane Special Services Fire District Board Meeting
DESCRIPTION:
URL:https://paul4virgintowncouncil.com/event/hurricane-special-services-fire-district-board-meeting-2/
END:VEVENT
BEGIN:VEVENT
DTSTART;TZID=America/Denver:20240521T180000
DTEND;TZID=America/Denver:20240521T180000
DTSTAMP:20260423T140451
CREATED:20240519T165437Z
LAST-MODIFIED:20240519T165441Z
UID:2208-1716314400-1716314400@paul4virgintowncouncil.com
SUMMARY:TOWN COUNCIL REGULAR MEETING
DESCRIPTION:
URL:https://paul4virgintowncouncil.com/event/town-council-regular-meeting-6/
END:VEVENT
BEGIN:VEVENT
DTSTART;TZID=America/Denver:20240516T180000
DTEND;TZID=America/Denver:20240516T180000
DTSTAMP:20260423T140451
CREATED:20240311T043137Z
LAST-MODIFIED:20240516T185601Z
UID:2176-1715882400-1715882400@paul4virgintowncouncil.com
SUMMARY:TOWN COUNCIL WORK MEETING
DESCRIPTION:
URL:https://paul4virgintowncouncil.com/event/town-council-work-meeting-3/
END:VEVENT
BEGIN:VEVENT
DTSTART;TZID=America/Denver:20240416T180000
DTEND;TZID=America/Denver:20240416T180000
DTSTAMP:20260423T140451
CREATED:20240414T161753Z
LAST-MODIFIED:20240414T161756Z
UID:2194-1713290400-1713290400@paul4virgintowncouncil.com
SUMMARY:TOWN COUNCIL REGULAR MEETING
DESCRIPTION:
URL:https://paul4virgintowncouncil.com/event/town-council-regular-meeting-5/
END:VEVENT
BEGIN:VEVENT
DTSTART;TZID=America/Denver:20240411T180000
DTEND;TZID=America/Denver:20240411T180000
DTSTAMP:20260423T140451
CREATED:20240311T042742Z
LAST-MODIFIED:20240411T044722Z
UID:2173-1712858400-1712858400@paul4virgintowncouncil.com
SUMMARY:TOWN COUNCIL WORK MEETING
DESCRIPTION:
URL:https://paul4virgintowncouncil.com/event/town-council-regular-meeting-4/
END:VEVENT
BEGIN:VEVENT
DTSTART;TZID=America/Denver:20240410T173000
DTEND;TZID=America/Denver:20240410T173000
DTSTAMP:20260423T140451
CREATED:20240311T040139Z
LAST-MODIFIED:20240311T040614Z
UID:2165-1712770200-1712770200@paul4virgintowncouncil.com
SUMMARY:Planning & Zoning Regular Meeting
DESCRIPTION:
URL:https://paul4virgintowncouncil.com/event/planning-zoning-regular-meeting-2/
END:VEVENT
BEGIN:VEVENT
DTSTART;TZID=America/Denver:20240320T120000
DTEND;TZID=America/Denver:20240320T120000
DTSTAMP:20260423T140451
CREATED:20240311T040802Z
LAST-MODIFIED:20240311T040806Z
UID:2167-1710936000-1710936000@paul4virgintowncouncil.com
SUMMARY:Planning & Zoning Work Meeting
DESCRIPTION:
URL:https://paul4virgintowncouncil.com/event/planning-zoning-work-meeting/
END:VEVENT
BEGIN:VEVENT
DTSTART;TZID=America/Denver:20240319T180000
DTEND;TZID=America/Denver:20240319T180000
DTSTAMP:20260423T140451
CREATED:20240311T042000Z
LAST-MODIFIED:20240311T042004Z
UID:2171-1710871200-1710871200@paul4virgintowncouncil.com
SUMMARY:TOWN COUNCIL REGULAR MEETING
DESCRIPTION:
URL:https://paul4virgintowncouncil.com/event/town-council-regular-meeting-3/
END:VEVENT
BEGIN:VEVENT
DTSTART;TZID=America/Denver:20240314T180000
DTEND;TZID=America/Denver:20240314T180000
DTSTAMP:20260423T140451
CREATED:20240311T041804Z
LAST-MODIFIED:20240311T041807Z
UID:2169-1710439200-1710439200@paul4virgintowncouncil.com
SUMMARY:TOWN COUNCIL WORK MEETING
DESCRIPTION:
URL:https://paul4virgintowncouncil.com/event/town-council-work-meeting-2/
END:VEVENT
BEGIN:VEVENT
DTSTART;TZID=America/Denver:20240313T173000
DTEND;TZID=America/Denver:20240313T173000
DTSTAMP:20260423T140451
CREATED:20240311T035937Z
LAST-MODIFIED:20240311T035940Z
UID:2163-1710351000-1710351000@paul4virgintowncouncil.com
SUMMARY:Planning & Zoning Regular Meeting
DESCRIPTION:
URL:https://paul4virgintowncouncil.com/event/planning-zoning-regular-meeting/
END:VEVENT
BEGIN:VEVENT
DTSTART;TZID=America/Denver:20240220T170000
DTEND;TZID=America/Denver:20240220T170000
DTSTAMP:20260423T140451
CREATED:20240126T025356Z
LAST-MODIFIED:20240219T154830Z
UID:2122-1708448400-1708448400@paul4virgintowncouncil.com
SUMMARY:TOWN COUNCIL MEETING
DESCRIPTION:
URL:https://paul4virgintowncouncil.com/event/town-council-meeting-25/
END:VEVENT
BEGIN:VEVENT
DTSTART;TZID=America/Denver:20240215T180000
DTEND;TZID=America/Denver:20240215T180000
DTSTAMP:20260423T140451
CREATED:20240126T025206Z
LAST-MODIFIED:20240126T025210Z
UID:2119-1708020000-1708020000@paul4virgintowncouncil.com
SUMMARY:VIRGIN TOWN COUNCIL WORK MEETING
DESCRIPTION:
URL:https://paul4virgintowncouncil.com/event/virgin-town-council-work-meeting/
END:VEVENT
BEGIN:VEVENT
DTSTART;TZID=America/Denver:20240213T173000
DTEND;TZID=America/Denver:20240213T173000
DTSTAMP:20260423T140451
CREATED:20240213T162734Z
LAST-MODIFIED:20240213T162737Z
UID:2134-1707845400-1707845400@paul4virgintowncouncil.com
SUMMARY:Planning & Zoning Commission Meeting
DESCRIPTION:
URL:https://paul4virgintowncouncil.com/event/planning-zoning-commission-meeting-17/
END:VEVENT
BEGIN:VEVENT
DTSTART;TZID=America/Denver:20240205T180000
DTEND;TZID=America/Denver:20240205T200000
DTSTAMP:20260423T140451
CREATED:20240105T000829Z
LAST-MODIFIED:20240105T000833Z
UID:2083-1707156000-1707163200@paul4virgintowncouncil.com
SUMMARY:Hurricane Special Services Fire District Board Meeting
DESCRIPTION:
URL:https://paul4virgintowncouncil.com/event/hurricane-special-services-fire-district-board-meeting/
END:VEVENT
BEGIN:VEVENT
DTSTART;TZID=America/Denver:20240131T180000
DTEND;TZID=America/Denver:20240131T180000
DTSTAMP:20260423T140451
CREATED:20240126T024801Z
LAST-MODIFIED:20240126T024806Z
UID:2117-1706724000-1706724000@paul4virgintowncouncil.com
SUMMARY:PLANNING & ZONING COMMISSION WORK SESSION
DESCRIPTION:
URL:https://paul4virgintowncouncil.com/event/planning-zoning-commission-work-session/
END:VEVENT
BEGIN:VEVENT
DTSTART;TZID=America/Denver:20240116T180000
DTEND;TZID=America/Denver:20240116T210000
DTSTAMP:20260423T140451
CREATED:20240105T000628Z
LAST-MODIFIED:20240105T000633Z
UID:2081-1705428000-1705438800@paul4virgintowncouncil.com
SUMMARY:TOWN COUNCIL REGULAR MEETING
DESCRIPTION:
URL:https://paul4virgintowncouncil.com/event/town-council-regular-meeting-2/
END:VEVENT
BEGIN:VEVENT
DTSTART;TZID=America/Denver:20240111T163000
DTEND;TZID=America/Denver:20240111T180000
DTSTAMP:20260423T140451
CREATED:20240105T000524Z
LAST-MODIFIED:20240111T043132Z
UID:2079-1704990600-1704996000@paul4virgintowncouncil.com
SUMMARY:TOWN COUNCIL WORK MEETING
DESCRIPTION:
URL:https://paul4virgintowncouncil.com/event/town-council-work-meeting/
END:VEVENT
BEGIN:VEVENT
DTSTART;TZID=America/Denver:20240103T060000
DTEND;TZID=America/Denver:20240103T190000
DTSTAMP:20260423T140451
CREATED:20240102T164425Z
LAST-MODIFIED:20240102T164430Z
UID:2070-1704261600-1704308400@paul4virgintowncouncil.com
SUMMARY:TOWN COUNCIL MEETING - SWEARING IN OF NEW COUNCIL MEMBERS
DESCRIPTION:
URL:https://paul4virgintowncouncil.com/event/town-council-meeting-swearing-in-of-new-council-members/
END:VEVENT
BEGIN:VEVENT
DTSTART;TZID=America/Denver:20231219T183000
DTEND;TZID=America/Denver:20231219T183000
DTSTAMP:20260423T140451
CREATED:20221231T184658Z
LAST-MODIFIED:20221231T184703Z
UID:1517-1703010600-1703010600@paul4virgintowncouncil.com
SUMMARY:TOWN COUNCIL MEETING
DESCRIPTION:
URL:https://paul4virgintowncouncil.com/event/town-council-meeting-23/
END:VEVENT
BEGIN:VEVENT
DTSTART;TZID=America/Denver:20231214T183000
DTEND;TZID=America/Denver:20231214T183000
DTSTAMP:20260423T140451
CREATED:20221231T183544Z
LAST-MODIFIED:20231202T024456Z
UID:1494-1702578600-1702578600@paul4virgintowncouncil.com
SUMMARY:TOWN COUNCIL MEETING - CANCELLED
DESCRIPTION:
URL:https://paul4virgintowncouncil.com/event/town-council-meeting-work-session-11/
END:VEVENT
BEGIN:VEVENT
DTSTART;TZID=America/Denver:20231213T180000
DTEND;TZID=America/Denver:20231213T210000
DTSTAMP:20260423T140451
CREATED:20231202T031523Z
LAST-MODIFIED:20231202T031527Z
UID:2051-1702490400-1702501200@paul4virgintowncouncil.com
SUMMARY:PLANNING & ZONING COMMISSION MEETING
DESCRIPTION:
URL:https://paul4virgintowncouncil.com/event/planning-zoning-commission-meeting-16/
END:VEVENT
BEGIN:VEVENT
DTSTART;TZID=America/Denver:20231205T170000
DTEND;TZID=America/Denver:20231205T170000
DTSTAMP:20260423T140451
CREATED:20231202T031355Z
LAST-MODIFIED:20231202T031400Z
UID:2048-1701795600-1701795600@paul4virgintowncouncil.com
SUMMARY:ELECTION CANVAS- TOWN COUNCIL
DESCRIPTION:
URL:https://paul4virgintowncouncil.com/event/election-canvas-town-council/
END:VEVENT
BEGIN:VEVENT
DTSTART;TZID=America/Denver:20231204T180000
DTEND;TZID=America/Denver:20231204T200000
DTSTAMP:20260423T140451
CREATED:20230121T022219Z
LAST-MODIFIED:20231105T013518Z
UID:1588-1701712800-1701720000@paul4virgintowncouncil.com
SUMMARY:HURRICANE VALLEY FIRE SPECIAL SERVICE DISTRICT (HVFSSD) BOARD MEETING
DESCRIPTION:
URL:https://paul4virgintowncouncil.com/event/hurricane-valley-fire-special-service-district-hvfssd-board-meeting-11/
END:VEVENT
BEGIN:VEVENT
DTSTART;TZID=America/Denver:20231204T180000
DTEND;TZID=America/Denver:20231204T200000
DTSTAMP:20260423T140451
CREATED:20230121T022122Z
LAST-MODIFIED:20231006T013222Z
UID:1586-1701712800-1701720000@paul4virgintowncouncil.com
SUMMARY:HURRICANE VALLEY FIRE SPECIAL SERVICE DISTRICT (HVFSSD) BOARD MEETING
DESCRIPTION:
URL:https://paul4virgintowncouncil.com/event/hurricane-valley-fire-special-service-district-hvfssd-board-meeting-10/
END:VEVENT
BEGIN:VEVENT
DTSTART;TZID=America/Denver:20231120T183000
DTEND;TZID=America/Denver:20231120T183000
DTSTAMP:20260423T140451
CREATED:20221231T184616Z
LAST-MODIFIED:20231105T015815Z
UID:1515-1700505000-1700505000@paul4virgintowncouncil.com
SUMMARY:TOWN COUNCIL MEETING
DESCRIPTION:
URL:https://paul4virgintowncouncil.com/event/town-council-meeting-22/
END:VEVENT
BEGIN:VEVENT
DTSTART;TZID=America/Denver:20231114T180000
DTEND;TZID=America/Denver:20231114T203000
DTSTAMP:20260423T140451
CREATED:20221231T183438Z
LAST-MODIFIED:20231105T015738Z
UID:1492-1699984800-1699993800@paul4virgintowncouncil.com
SUMMARY:TOWN COUNCIL MEETING - public hearing
DESCRIPTION:
URL:https://paul4virgintowncouncil.com/event/town-council-meeting-work-session-10/
END:VEVENT
BEGIN:VEVENT
DTSTART;TZID=America/Denver:20231109T180000
DTEND;TZID=America/Denver:20231109T180000
DTSTAMP:20260423T140451
CREATED:20231109T155021Z
LAST-MODIFIED:20231109T155025Z
UID:2012-1699552800-1699552800@paul4virgintowncouncil.com
SUMMARY:Developer Presentation Concerning Proposal for Zone Change & Development Proposal for Property across from Desert Gardens. @ Old Church
DESCRIPTION:
URL:https://paul4virgintowncouncil.com/event/developer-presentation-concerning-proposal-for-zone-change-development-proposal-for-property-across-from-desert-gardens-old-church/
END:VEVENT
BEGIN:VEVENT
DTSTART;TZID=America/Denver:20231106T180000
DTEND;TZID=America/Denver:20231106T210000
DTSTAMP:20260423T140451
CREATED:20230121T022035Z
LAST-MODIFIED:20231006T013126Z
UID:1584-1699293600-1699304400@paul4virgintowncouncil.com
SUMMARY:HURRICANE VALLEY FIRE SPECIAL SERVICE DISTRICT (HVFSSD) BOARD MEETING
DESCRIPTION:
URL:https://paul4virgintowncouncil.com/event/hurricane-valley-fire-special-service-district-hvfssd-board-meeting-9/
END:VEVENT
BEGIN:VEVENT
DTSTART;TZID=America/Denver:20231102T190000
DTEND;TZID=America/Denver:20231102T190000
DTSTAMP:20260423T140451
CREATED:20231019T023839Z
LAST-MODIFIED:20231019T023843Z
UID:1980-1698951600-1698951600@paul4virgintowncouncil.com
SUMMARY:Election Debate for Town Council
DESCRIPTION:
URL:https://paul4virgintowncouncil.com/event/election-debate-for-town-council/
END:VEVENT
END:VCALENDAR