BEGIN:VCALENDAR
VERSION:2.0
PRODID:-//RE-ELECT PAUL LUWE to VIRGIN TOWN COUNCIL - ECPv6.15.20//NONSGML v1.0//EN
CALSCALE:GREGORIAN
METHOD:PUBLISH
X-WR-CALNAME:RE-ELECT PAUL LUWE to VIRGIN TOWN COUNCIL
X-ORIGINAL-URL:https://paul4virgintowncouncil.com
X-WR-CALDESC:Events for RE-ELECT PAUL LUWE to VIRGIN TOWN COUNCIL
REFRESH-INTERVAL;VALUE=DURATION:PT1H
X-Robots-Tag:noindex
X-PUBLISHED-TTL:PT1H
BEGIN:VTIMEZONE
TZID:America/Denver
BEGIN:DAYLIGHT
TZOFFSETFROM:-0700
TZOFFSETTO:-0600
TZNAME:MDT
DTSTART:20220313T090000
END:DAYLIGHT
BEGIN:STANDARD
TZOFFSETFROM:-0600
TZOFFSETTO:-0700
TZNAME:MST
DTSTART:20221106T080000
END:STANDARD
BEGIN:DAYLIGHT
TZOFFSETFROM:-0700
TZOFFSETTO:-0600
TZNAME:MDT
DTSTART:20230312T090000
END:DAYLIGHT
BEGIN:STANDARD
TZOFFSETFROM:-0600
TZOFFSETTO:-0700
TZNAME:MST
DTSTART:20231105T080000
END:STANDARD
BEGIN:DAYLIGHT
TZOFFSETFROM:-0700
TZOFFSETTO:-0600
TZNAME:MDT
DTSTART:20240310T090000
END:DAYLIGHT
BEGIN:STANDARD
TZOFFSETFROM:-0600
TZOFFSETTO:-0700
TZNAME:MST
DTSTART:20241103T080000
END:STANDARD
END:VTIMEZONE
BEGIN:VEVENT
DTSTART;TZID=America/Denver:20231204T180000
DTEND;TZID=America/Denver:20231204T200000
DTSTAMP:20260423T161325
CREATED:20230121T022122Z
LAST-MODIFIED:20231006T013222Z
UID:1586-1701712800-1701720000@paul4virgintowncouncil.com
SUMMARY:HURRICANE VALLEY FIRE SPECIAL SERVICE DISTRICT (HVFSSD) BOARD MEETING
DESCRIPTION:
URL:https://paul4virgintowncouncil.com/event/hurricane-valley-fire-special-service-district-hvfssd-board-meeting-10/
END:VEVENT
BEGIN:VEVENT
DTSTART;TZID=America/Denver:20231120T183000
DTEND;TZID=America/Denver:20231120T183000
DTSTAMP:20260423T161325
CREATED:20221231T184616Z
LAST-MODIFIED:20231105T015815Z
UID:1515-1700505000-1700505000@paul4virgintowncouncil.com
SUMMARY:TOWN COUNCIL MEETING
DESCRIPTION:
URL:https://paul4virgintowncouncil.com/event/town-council-meeting-22/
END:VEVENT
BEGIN:VEVENT
DTSTART;TZID=America/Denver:20231114T180000
DTEND;TZID=America/Denver:20231114T203000
DTSTAMP:20260423T161325
CREATED:20221231T183438Z
LAST-MODIFIED:20231105T015738Z
UID:1492-1699984800-1699993800@paul4virgintowncouncil.com
SUMMARY:TOWN COUNCIL MEETING - public hearing
DESCRIPTION:
URL:https://paul4virgintowncouncil.com/event/town-council-meeting-work-session-10/
END:VEVENT
BEGIN:VEVENT
DTSTART;TZID=America/Denver:20231109T180000
DTEND;TZID=America/Denver:20231109T180000
DTSTAMP:20260423T161325
CREATED:20231109T155021Z
LAST-MODIFIED:20231109T155025Z
UID:2012-1699552800-1699552800@paul4virgintowncouncil.com
SUMMARY:Developer Presentation Concerning Proposal for Zone Change & Development Proposal for Property across from Desert Gardens. @ Old Church
DESCRIPTION:
URL:https://paul4virgintowncouncil.com/event/developer-presentation-concerning-proposal-for-zone-change-development-proposal-for-property-across-from-desert-gardens-old-church/
END:VEVENT
BEGIN:VEVENT
DTSTART;TZID=America/Denver:20231106T180000
DTEND;TZID=America/Denver:20231106T210000
DTSTAMP:20260423T161325
CREATED:20230121T022035Z
LAST-MODIFIED:20231006T013126Z
UID:1584-1699293600-1699304400@paul4virgintowncouncil.com
SUMMARY:HURRICANE VALLEY FIRE SPECIAL SERVICE DISTRICT (HVFSSD) BOARD MEETING
DESCRIPTION:
URL:https://paul4virgintowncouncil.com/event/hurricane-valley-fire-special-service-district-hvfssd-board-meeting-9/
END:VEVENT
BEGIN:VEVENT
DTSTART;TZID=America/Denver:20231102T190000
DTEND;TZID=America/Denver:20231102T190000
DTSTAMP:20260423T161325
CREATED:20231019T023839Z
LAST-MODIFIED:20231019T023843Z
UID:1980-1698951600-1698951600@paul4virgintowncouncil.com
SUMMARY:Election Debate for Town Council
DESCRIPTION:
URL:https://paul4virgintowncouncil.com/event/election-debate-for-town-council/
END:VEVENT
BEGIN:VEVENT
DTSTART;TZID=America/Denver:20231031T063000
DTEND;TZID=America/Denver:20231031T203000
DTSTAMP:20260423T161325
CREATED:20231019T023719Z
LAST-MODIFIED:20231019T023723Z
UID:1977-1698733800-1698784200@paul4virgintowncouncil.com
SUMMARY:Halloween Trunk  or Treat
DESCRIPTION:@Heritage Town Square
URL:https://paul4virgintowncouncil.com/event/halloween-trunk-or-treat/
END:VEVENT
BEGIN:VEVENT
DTSTART;TZID=America/Denver:20231030T090000
DTEND;TZID=America/Denver:20231030T113000
DTSTAMP:20260423T161325
CREATED:20231029T213808Z
LAST-MODIFIED:20231029T213813Z
UID:1992-1698656400-1698665400@paul4virgintowncouncil.com
SUMMARY:CIP (Capital Improvements Committee) Meeting
DESCRIPTION:
URL:https://paul4virgintowncouncil.com/event/cip-capital-improvements-committee-meeting-2/
END:VEVENT
BEGIN:VEVENT
DTSTART;TZID=America/Denver:20231025T170000
DTEND;TZID=America/Denver:20231025T170000
DTSTAMP:20260423T161325
CREATED:20231019T035957Z
LAST-MODIFIED:20231019T040001Z
UID:1985-1698253200-1698253200@paul4virgintowncouncil.com
SUMMARY:CAPITAL IMPROVEMENTS COMMITTEE MEETING
DESCRIPTION:
URL:https://paul4virgintowncouncil.com/event/capital-improvements-committee-meeting-2/
END:VEVENT
BEGIN:VEVENT
DTSTART;TZID=America/Denver:20231019T180000
DTEND;TZID=America/Denver:20231019T180000
DTSTAMP:20260423T161325
CREATED:20231018T231854Z
LAST-MODIFIED:20231018T231906Z
UID:1972-1697738400-1697738400@paul4virgintowncouncil.com
SUMMARY:SPECIAL MEETING TOWN COUNCIL
DESCRIPTION:
URL:https://paul4virgintowncouncil.com/event/special-meeting-town-council-2/
END:VEVENT
BEGIN:VEVENT
DTSTART;TZID=America/Denver:20231017T183000
DTEND;TZID=America/Denver:20231017T183000
DTSTAMP:20260423T161325
CREATED:20221231T184531Z
LAST-MODIFIED:20221231T184535Z
UID:1513-1697567400-1697567400@paul4virgintowncouncil.com
SUMMARY:TOWN COUNCIL MEETING
DESCRIPTION:
URL:https://paul4virgintowncouncil.com/event/town-council-meeting-21/
END:VEVENT
BEGIN:VEVENT
DTSTART;TZID=America/Denver:20231012T183000
DTEND;TZID=America/Denver:20231012T183000
DTSTAMP:20260423T161325
CREATED:20221231T183351Z
LAST-MODIFIED:20221231T183355Z
UID:1490-1697135400-1697135400@paul4virgintowncouncil.com
SUMMARY:TOWN COUNCIL MEETING - Work Session
DESCRIPTION:
URL:https://paul4virgintowncouncil.com/event/town-council-meeting-work-session-9/
END:VEVENT
BEGIN:VEVENT
DTSTART;TZID=America/Denver:20231011T180000
DTEND;TZID=America/Denver:20231011T180000
DTSTAMP:20260423T161325
CREATED:20231006T012915Z
LAST-MODIFIED:20231006T012920Z
UID:1946-1697047200-1697047200@paul4virgintowncouncil.com
SUMMARY:PLANNING & ZONING COMMISSION
DESCRIPTION:
URL:https://paul4virgintowncouncil.com/event/planning-zoning-commission/
END:VEVENT
BEGIN:VEVENT
DTSTART;TZID=America/Denver:20231007T150000
DTEND;TZID=America/Denver:20231007T190000
DTSTAMP:20260423T161325
CREATED:20231006T012813Z
LAST-MODIFIED:20231006T012817Z
UID:1944-1696690800-1696705200@paul4virgintowncouncil.com
SUMMARY:FALL FESTIVAL
DESCRIPTION:
URL:https://paul4virgintowncouncil.com/event/fall-festival-2/
END:VEVENT
BEGIN:VEVENT
DTSTART;TZID=America/Denver:20231001T190000
DTEND;TZID=America/Denver:20231001T190000
DTSTAMP:20260423T161325
CREATED:20231002T032812Z
LAST-MODIFIED:20231002T032816Z
UID:1942-1696186800-1696186800@paul4virgintowncouncil.com
SUMMARY:HURRICANE VALLEY SPECIAL FIRE DISTRICT
DESCRIPTION:
URL:https://paul4virgintowncouncil.com/event/hurricane-valley-special-fire-district/
END:VEVENT
BEGIN:VEVENT
DTSTART;TZID=America/Denver:20231001T190000
DTEND;TZID=America/Denver:20231001T190000
DTSTAMP:20260423T161325
CREATED:20231002T032641Z
LAST-MODIFIED:20231002T032648Z
UID:1939-1696186800-1696186800@paul4virgintowncouncil.com
SUMMARY:Hurricane Valley Special Fire District Meeting.
DESCRIPTION:
URL:https://paul4virgintowncouncil.com/event/hurricane-valley-special-fire-district-meeting/
END:VEVENT
BEGIN:VEVENT
DTSTART;TZID=America/Denver:20230926T180000
DTEND;TZID=America/Denver:20230926T210000
DTSTAMP:20260423T161325
CREATED:20230921T195600Z
LAST-MODIFIED:20230921T195605Z
UID:1924-1695751200-1695762000@paul4virgintowncouncil.com
SUMMARY:TOWN COUNCIL REGULAR MEETING
DESCRIPTION:
URL:https://paul4virgintowncouncil.com/event/town-council-regular-meeting/
END:VEVENT
BEGIN:VEVENT
DTSTART;TZID=America/Denver:20230919T183000
DTEND;TZID=America/Denver:20230919T183000
DTSTAMP:20260423T161325
CREATED:20221231T184436Z
LAST-MODIFIED:20221231T184441Z
UID:1511-1695148200-1695148200@paul4virgintowncouncil.com
SUMMARY:TOWN COUNCIL MEETING
DESCRIPTION:
URL:https://paul4virgintowncouncil.com/event/town-council-meeting-20/
END:VEVENT
BEGIN:VEVENT
DTSTART;TZID=America/Denver:20230914T183000
DTEND;TZID=America/Denver:20230914T183000
DTSTAMP:20260423T161325
CREATED:20221231T183301Z
LAST-MODIFIED:20221231T183308Z
UID:1488-1694716200-1694716200@paul4virgintowncouncil.com
SUMMARY:TOWN COUNCIL MEETING - Work Session
DESCRIPTION:
URL:https://paul4virgintowncouncil.com/event/town-council-meeting-work-session-8/
END:VEVENT
BEGIN:VEVENT
DTSTART;TZID=America/Denver:20230913T180000
DTEND;TZID=America/Denver:20230913T180000
DTSTAMP:20260423T161325
CREATED:20230905T234332Z
LAST-MODIFIED:20230905T234337Z
UID:1890-1694628000-1694628000@paul4virgintowncouncil.com
SUMMARY:PLANNING & ZOINING COMMISSION MEETING
DESCRIPTION:
URL:https://paul4virgintowncouncil.com/event/planning-zoining-commission-meeting/
END:VEVENT
BEGIN:VEVENT
DTSTART;TZID=America/Denver:20230905T180000
DTEND;TZID=America/Denver:20230905T200000
DTSTAMP:20260423T161325
CREATED:20230121T021950Z
LAST-MODIFIED:20230824T213515Z
UID:1582-1693936800-1693944000@paul4virgintowncouncil.com
SUMMARY:HURRICANE VALLEY FIRE SPECIAL SERVICE DISTRICT (HVFSSD) BOARD MEETING
DESCRIPTION:
URL:https://paul4virgintowncouncil.com/event/hurricane-valley-fire-special-service-district-hvfssd-board-meeting-8/
END:VEVENT
BEGIN:VEVENT
DTSTART;TZID=America/Denver:20230824T170000
DTEND;TZID=America/Denver:20230824T170000
DTSTAMP:20260423T161325
CREATED:20230824T213331Z
LAST-MODIFIED:20230824T213337Z
UID:1880-1692896400-1692896400@paul4virgintowncouncil.com
SUMMARY:Capital Improvements Committee Meeting
DESCRIPTION:
URL:https://paul4virgintowncouncil.com/event/capital-improvements-committee-meeting/
END:VEVENT
BEGIN:VEVENT
DTSTART;TZID=America/Denver:20230815T183000
DTEND;TZID=America/Denver:20230815T183000
DTSTAMP:20260423T161325
CREATED:20221231T184356Z
LAST-MODIFIED:20221231T184400Z
UID:1509-1692124200-1692124200@paul4virgintowncouncil.com
SUMMARY:TOWN COUNCIL MEETING
DESCRIPTION:
URL:https://paul4virgintowncouncil.com/event/town-council-meeting-19/
END:VEVENT
BEGIN:VEVENT
DTSTART;TZID=America/Denver:20230810T183000
DTEND;TZID=America/Denver:20230810T183000
DTSTAMP:20260423T161325
CREATED:20221231T183906Z
LAST-MODIFIED:20221231T183919Z
UID:1497-1691692200-1691692200@paul4virgintowncouncil.com
SUMMARY:TOWN COUNCIL MEETING - Work Session
DESCRIPTION:
URL:https://paul4virgintowncouncil.com/event/town-council-meeting-work-session-12/
END:VEVENT
BEGIN:VEVENT
DTSTART;TZID=America/Denver:20230810T060000
DTEND;TZID=America/Denver:20230810T190000
DTSTAMP:20260423T161325
CREATED:20230721T190417Z
LAST-MODIFIED:20230721T190422Z
UID:1831-1691647200-1691694000@paul4virgintowncouncil.com
SUMMARY:Meet the Candidates
DESCRIPTION:@Old Church
URL:https://paul4virgintowncouncil.com/event/meet-the-candidates/
END:VEVENT
BEGIN:VEVENT
DTSTART;TZID=America/Denver:20230809T180000
DTEND;TZID=America/Denver:20230809T180000
DTSTAMP:20260423T161325
CREATED:20230807T211022Z
LAST-MODIFIED:20230807T211027Z
UID:1857-1691604000-1691604000@paul4virgintowncouncil.com
SUMMARY:PLANNING & ZONING COMMISSION MEETING - Old Church
DESCRIPTION:
URL:https://paul4virgintowncouncil.com/event/planning-zoning-commission-meeting-old-church/
END:VEVENT
BEGIN:VEVENT
DTSTART;TZID=America/Denver:20230808T180000
DTEND;TZID=America/Denver:20230808T193000
DTSTAMP:20260423T161325
CREATED:20230721T190249Z
LAST-MODIFIED:20230721T190259Z
UID:1829-1691517600-1691523000@paul4virgintowncouncil.com
SUMMARY:Transportation Plan Open House
DESCRIPTION:@ Old Church
URL:https://paul4virgintowncouncil.com/event/transportation-plan-open-house/
END:VEVENT
BEGIN:VEVENT
DTSTART;TZID=America/Denver:20230807T140000
DTEND;TZID=America/Denver:20230807T160000
DTSTAMP:20260423T161325
CREATED:20230121T021839Z
LAST-MODIFIED:20230721T190614Z
UID:1580-1691416800-1691424000@paul4virgintowncouncil.com
SUMMARY:HURRICANE VALLEY FIRE SPECIAL SERVICE DISTRICT (HVFSSD) BOARD MEETING
DESCRIPTION:
URL:https://paul4virgintowncouncil.com/event/hurricane-valley-fire-special-service-district-hvfssd-board-meeting-7/
END:VEVENT
BEGIN:VEVENT
DTSTART;TZID=America/Denver:20230718T183000
DTEND;TZID=America/Denver:20230718T183000
DTSTAMP:20260423T161325
CREATED:20221231T184854Z
LAST-MODIFIED:20221231T184859Z
UID:1519-1689705000-1689705000@paul4virgintowncouncil.com
SUMMARY:TOWN COUNCIL MEETING
DESCRIPTION:
URL:https://paul4virgintowncouncil.com/event/town-council-meeting-24/
END:VEVENT
BEGIN:VEVENT
DTSTART;TZID=America/Denver:20230717T140000
DTEND;TZID=America/Denver:20230717T140000
DTSTAMP:20260423T161325
CREATED:20230121T021752Z
LAST-MODIFIED:20230121T021801Z
UID:1578-1689602400-1689602400@paul4virgintowncouncil.com
SUMMARY:HURRICANE VALLEY FIRE SPECIAL SERVICE DISTRICT (HVFSSD) BOARD MEETING
DESCRIPTION:
URL:https://paul4virgintowncouncil.com/event/hurricane-valley-fire-special-service-district-hvfssd-board-meeting-6/
END:VEVENT
END:VCALENDAR